BEGIN:VCALENDAR
VERSION:2.0
PRODID:-//unterinntaler-musikbund.at - ECPv6.11.2//NONSGML v1.0//EN
CALSCALE:GREGORIAN
METHOD:PUBLISH
X-WR-CALNAME:unterinntaler-musikbund.at
X-ORIGINAL-URL:https://unterinntaler-musikbund.at
X-WR-CALDESC:Veranstaltungen für unterinntaler-musikbund.at
REFRESH-INTERVAL;VALUE=DURATION:PT1H
X-Robots-Tag:noindex
X-PUBLISHED-TTL:PT1H
BEGIN:VTIMEZONE
TZID:Europe/Berlin
BEGIN:DAYLIGHT
TZOFFSETFROM:+0100
TZOFFSETTO:+0200
TZNAME:CEST
DTSTART:20250330T010000
END:DAYLIGHT
BEGIN:STANDARD
TZOFFSETFROM:+0200
TZOFFSETTO:+0100
TZNAME:CET
DTSTART:20251026T010000
END:STANDARD
END:VTIMEZONE
BEGIN:VEVENT
DTSTART;TZID=Europe/Berlin:20251108T193000
DTEND;TZID=Europe/Berlin:20251108T220000
DTSTAMP:20260421T072602
CREATED:20240202T120252Z
LAST-MODIFIED:20250918T150035Z
UID:1976-1762630200-1762639200@unterinntaler-musikbund.at
SUMMARY:Cäcilienkonzert STMK Kufstein
DESCRIPTION:Das traditionelle Cäcilienkonzert ist das Jahreskonzert der Stadtmusikkapelle Kufstein und findet am Samstag\, den 08. November 2025 um 19:30 Uhr im Stadtsaal Kufstein statt.
URL:https://unterinntaler-musikbund.at/event/caecilienkonzert-2024/
LOCATION:Stadtsaal Kufstein
ATTACH;FMTTYPE=image/jpeg:https://unterinntaler-musikbund.at/wp-content/uploads/2024/02/Foto-Graggo-5100-13-scaled.jpg
END:VEVENT
END:VCALENDAR