BEGIN:VCALENDAR
VERSION:2.0
PRODID:-//unterinntaler-musikbund.at - ECPv6.11.2//NONSGML v1.0//EN
CALSCALE:GREGORIAN
METHOD:PUBLISH
X-WR-CALNAME:unterinntaler-musikbund.at
X-ORIGINAL-URL:https://unterinntaler-musikbund.at
X-WR-CALDESC:Veranstaltungen für unterinntaler-musikbund.at
REFRESH-INTERVAL;VALUE=DURATION:PT1H
X-Robots-Tag:noindex
X-PUBLISHED-TTL:PT1H
BEGIN:VTIMEZONE
TZID:Europe/Berlin
BEGIN:DAYLIGHT
TZOFFSETFROM:+0100
TZOFFSETTO:+0200
TZNAME:CEST
DTSTART:20260329T010000
END:DAYLIGHT
BEGIN:STANDARD
TZOFFSETFROM:+0200
TZOFFSETTO:+0100
TZNAME:CET
DTSTART:20261025T010000
END:STANDARD
END:VTIMEZONE
BEGIN:VEVENT
DTSTART;TZID=Europe/Berlin:20260221T193000
DTEND;TZID=Europe/Berlin:20260221T213000
DTSTAMP:20260419T232940
CREATED:20260114T150411Z
LAST-MODIFIED:20260114T151135Z
UID:2696-1771702200-1771709400@unterinntaler-musikbund.at
SUMMARY:Doppelkonzert Bezirksjugendblasorchester Kufstein
DESCRIPTION:Doppelkonzert mit dem Bezirksjugendblasorchester Kufstein und dem Landesjugendblasorchester Salzburg.
URL:https://unterinntaler-musikbund.at/event/doppelkonzert-bezirksjugendblasorchester-kufstein/
LOCATION:Kulturquartier Kufstein\, Theaterplatz 1\, Kufstein\, Tirol\, 6330\, Österreich
ATTACH;FMTTYPE=image/jpeg:https://unterinntaler-musikbund.at/wp-content/uploads/2026/01/Konzerte-Flyer.jpeg
ORGANIZER;CN="Unterinntaler Musikbund Kufstein":MAILTO:sebastian.neureiter@musik-soell.at
END:VEVENT
END:VCALENDAR