BEGIN:VCALENDAR
VERSION:2.0
PRODID:-//unterinntaler-musikbund.at - ECPv6.11.2//NONSGML v1.0//EN
CALSCALE:GREGORIAN
METHOD:PUBLISH
X-WR-CALNAME:unterinntaler-musikbund.at
X-ORIGINAL-URL:https://unterinntaler-musikbund.at
X-WR-CALDESC:Veranstaltungen für unterinntaler-musikbund.at
REFRESH-INTERVAL;VALUE=DURATION:PT1H
X-Robots-Tag:noindex
X-PUBLISHED-TTL:PT1H
BEGIN:VTIMEZONE
TZID:Europe/Berlin
BEGIN:DAYLIGHT
TZOFFSETFROM:+0100
TZOFFSETTO:+0200
TZNAME:CEST
DTSTART:20250330T010000
END:DAYLIGHT
BEGIN:STANDARD
TZOFFSETFROM:+0200
TZOFFSETTO:+0100
TZNAME:CET
DTSTART:20251026T010000
END:STANDARD
END:VTIMEZONE
BEGIN:VEVENT
DTSTART;TZID=Europe/Berlin:20250411T200000
DTEND;TZID=Europe/Berlin:20250411T230000
DTSTAMP:20260419T182818
CREATED:20250217T224958Z
LAST-MODIFIED:20250217T224958Z
UID:2386-1744401600-1744412400@unterinntaler-musikbund.at
SUMMARY:Frühjahrskonzert BMK Angerberg-Mariastein
DESCRIPTION:Frühjahrskonzert BMK Angerberg-Mariastein
URL:https://unterinntaler-musikbund.at/event/fruehjahrskonzert-bmk-angerberg-mariastein-4/
LOCATION:Dreiklee Angerberg\, Linden 9\, Angerberg\, Tirol\, 6320\, Österreich
ATTACH;FMTTYPE=image/jpeg:https://unterinntaler-musikbund.at/wp-content/uploads/2025/02/MUSIK_ANGERBERG_MARIASTEIN_2024_final-scaled.jpg
ORGANIZER;CN="BMK Angerberg-Mariastein":MAILTO:ellingermarkus@gmx.at
END:VEVENT
END:VCALENDAR