BEGIN:VCALENDAR
VERSION:2.0
PRODID:-//unterinntaler-musikbund.at - ECPv6.11.2//NONSGML v1.0//EN
CALSCALE:GREGORIAN
METHOD:PUBLISH
X-WR-CALNAME:unterinntaler-musikbund.at
X-ORIGINAL-URL:https://unterinntaler-musikbund.at
X-WR-CALDESC:Veranstaltungen für unterinntaler-musikbund.at
REFRESH-INTERVAL;VALUE=DURATION:PT1H
X-Robots-Tag:noindex
X-PUBLISHED-TTL:PT1H
BEGIN:VTIMEZONE
TZID:Europe/Berlin
BEGIN:DAYLIGHT
TZOFFSETFROM:+0100
TZOFFSETTO:+0200
TZNAME:CEST
DTSTART:20260329T010000
END:DAYLIGHT
BEGIN:STANDARD
TZOFFSETFROM:+0200
TZOFFSETTO:+0100
TZNAME:CET
DTSTART:20261025T010000
END:STANDARD
END:VTIMEZONE
BEGIN:VEVENT
DTSTART;TZID=Europe/Berlin:20260328T200000
DTEND;TZID=Europe/Berlin:20260328T223000
DTSTAMP:20260419T143436
CREATED:20260318T102249Z
LAST-MODIFIED:20260318T102343Z
UID:2824-1774728000-1774737000@unterinntaler-musikbund.at
SUMMARY:Frühjahrskonzert BMK Ellmau
DESCRIPTION:Die Bundesmusikkapelle Ellmau lädt herzlich zum diesjährigen Frühjahrskonzert ein! \n27. & 28. März 2026\nBeginn jeweils um 20:00 Uhr\nAula der Volksschule Ellmau \nFreut euch auf ein buntes und abwechslungsreiches Programm – von traditioneller Blasmusik über moderne Arrangements bis hin zu klangvollen Konzertwerken. Unsere Musikerinnen und Musiker haben ein vielseitiges Repertoire vorbereitet und freuen sich darauf\, euch einen stimmungsvollen Konzertabend zu bereiten.\nKommt vorbei\, genießt beste Blasmusik und verbringt einen musikalischen Frühlingsabend mit uns!  \nDie BMK Ellmau freut sich auf euren Besuch!
URL:https://unterinntaler-musikbund.at/event/fruehjahrskonzert-bmk-ellmau-6/
LOCATION:Volksschule Ellmau\, Kirchplatz 13\, Ellmau\, 6352\, Österreich
ATTACH;FMTTYPE=image/png:https://unterinntaler-musikbund.at/wp-content/uploads/2026/03/FJK_Flyer_Insta_20260318_111723_0000-scaled.png
END:VEVENT
END:VCALENDAR