BEGIN:VCALENDAR
VERSION:2.0
PRODID:-//unterinntaler-musikbund.at - ECPv6.11.2//NONSGML v1.0//EN
CALSCALE:GREGORIAN
METHOD:PUBLISH
X-WR-CALNAME:unterinntaler-musikbund.at
X-ORIGINAL-URL:https://unterinntaler-musikbund.at
X-WR-CALDESC:Veranstaltungen für unterinntaler-musikbund.at
REFRESH-INTERVAL;VALUE=DURATION:PT1H
X-Robots-Tag:noindex
X-PUBLISHED-TTL:PT1H
BEGIN:VTIMEZONE
TZID:Europe/Berlin
BEGIN:DAYLIGHT
TZOFFSETFROM:+0100
TZOFFSETTO:+0200
TZNAME:CEST
DTSTART:20240331T010000
END:DAYLIGHT
BEGIN:STANDARD
TZOFFSETFROM:+0200
TZOFFSETTO:+0100
TZNAME:CET
DTSTART:20241027T010000
END:STANDARD
END:VTIMEZONE
BEGIN:VEVENT
DTSTART;TZID=Europe/Berlin:20241130T193000
DTEND;TZID=Europe/Berlin:20241130T220000
DTSTAMP:20260425T211207
CREATED:20241118T200408Z
LAST-MODIFIED:20241118T200408Z
UID:2278-1732995000-1733004000@unterinntaler-musikbund.at
SUMMARY:Jahresabschlusskonzert 2024
DESCRIPTION:Das Jahresabschlusskonzert ist traditionell immer unser musikalischer Höhepunkt und findet meist am letzten November-Samstag statt.
URL:https://unterinntaler-musikbund.at/event/jahresabschlusskonzert-2024/
LOCATION:Turnhalle VS Bad Häring\, Obere Dorfstraße 2\, Bad Häring\, Tirol\, 6323\, Austria
ATTACH;FMTTYPE=image/jpeg:https://unterinntaler-musikbund.at/wp-content/uploads/2024/11/0001.jpg
END:VEVENT
END:VCALENDAR