BEGIN:VCALENDAR
VERSION:2.0
PRODID:-//unterinntaler-musikbund.at - ECPv6.11.2//NONSGML v1.0//EN
CALSCALE:GREGORIAN
METHOD:PUBLISH
X-WR-CALNAME:unterinntaler-musikbund.at
X-ORIGINAL-URL:https://unterinntaler-musikbund.at
X-WR-CALDESC:Veranstaltungen für unterinntaler-musikbund.at
REFRESH-INTERVAL;VALUE=DURATION:PT1H
X-Robots-Tag:noindex
X-PUBLISHED-TTL:PT1H
BEGIN:VTIMEZONE
TZID:Europe/Berlin
BEGIN:DAYLIGHT
TZOFFSETFROM:+0100
TZOFFSETTO:+0200
TZNAME:CEST
DTSTART:20220327T010000
END:DAYLIGHT
BEGIN:STANDARD
TZOFFSETFROM:+0200
TZOFFSETTO:+0100
TZNAME:CET
DTSTART:20221030T010000
END:STANDARD
END:VTIMEZONE
BEGIN:VEVENT
DTSTART;TZID=Europe/Berlin:20221118T200000
DTEND;TZID=Europe/Berlin:20221118T223000
DTSTAMP:20260419T185105
CREATED:20221115T210459Z
LAST-MODIFIED:20221115T210459Z
UID:1437-1668801600-1668810600@unterinntaler-musikbund.at
SUMMARY:Jubiläumskonzert 160 Jahre BMK Unterlangkampfen
DESCRIPTION:Zum heurigen 160-Jahr-Jubiläum spielt die Bundesmusikkapelle Unterlangkampfen gemeinsam mit der Jugendmusikkapelle Langkampfen ein Konzert und blickt auf die bewegte Geschichte zurück.
URL:https://unterinntaler-musikbund.at/event/jubilaeumskonzert-160-jahre-bmk-unterlangkampfen/
LOCATION:Gemeindesaal Langkampfen\, Bürgerstraße 6\, Langkampfen\, Tirol\, 6336\, Österreich
ATTACH;FMTTYPE=image/jpeg:https://unterinntaler-musikbund.at/wp-content/uploads/2022/11/20161101_vogography-bmk_langkampfen_shooting_-9624-scaled.jpg
ORGANIZER;CN="BMK Unterlangkampfen":MAILTO:bmk-unterlangkampfen@gmx.at
END:VEVENT
END:VCALENDAR