BEGIN:VCALENDAR
VERSION:2.0
PRODID:-//unterinntaler-musikbund.at - ECPv6.11.2//NONSGML v1.0//EN
CALSCALE:GREGORIAN
METHOD:PUBLISH
X-WR-CALNAME:unterinntaler-musikbund.at
X-ORIGINAL-URL:https://unterinntaler-musikbund.at
X-WR-CALDESC:Veranstaltungen für unterinntaler-musikbund.at
REFRESH-INTERVAL;VALUE=DURATION:PT1H
X-Robots-Tag:noindex
X-PUBLISHED-TTL:PT1H
BEGIN:VTIMEZONE
TZID:Europe/Berlin
BEGIN:DAYLIGHT
TZOFFSETFROM:+0100
TZOFFSETTO:+0200
TZNAME:CEST
DTSTART:20250330T010000
END:DAYLIGHT
BEGIN:STANDARD
TZOFFSETFROM:+0200
TZOFFSETTO:+0100
TZNAME:CET
DTSTART:20251026T010000
END:STANDARD
END:VTIMEZONE
BEGIN:VEVENT
DTSTART;TZID=Europe/Berlin:20250613T183000
DTEND;TZID=Europe/Berlin:20250613T203000
DTSTAMP:20260419T234617
CREATED:20250524T092225Z
LAST-MODIFIED:20250524T092743Z
UID:2484-1749839400-1749846600@unterinntaler-musikbund.at
SUMMARY:Bezirkskonzert der Militärmusik Tirol
DESCRIPTION:Bezirkskonzert der Militärmusik Tirol in Oberlangkampfen.\nDen Ausschank und die Verpflegung übernimmt die BMK Oberlangkampfen
URL:https://unterinntaler-musikbund.at/event/konzert-der-militaermusik-tirol/
LOCATION:Anger Oberlangkampfen\, Schopperstraße 8\, Langkamlpfen\, Tirol\, 6336\, Austria
ATTACH;FMTTYPE=application/pdf:https://unterinntaler-musikbund.at/wp-content/uploads/2025/05/Plakat.pdf
END:VEVENT
END:VCALENDAR