BEGIN:VCALENDAR
VERSION:2.0
PRODID:-//unterinntaler-musikbund.at - ECPv6.11.2//NONSGML v1.0//EN
CALSCALE:GREGORIAN
METHOD:PUBLISH
X-WR-CALNAME:unterinntaler-musikbund.at
X-ORIGINAL-URL:https://unterinntaler-musikbund.at
X-WR-CALDESC:Veranstaltungen für unterinntaler-musikbund.at
REFRESH-INTERVAL;VALUE=DURATION:PT1H
X-Robots-Tag:noindex
X-PUBLISHED-TTL:PT1H
BEGIN:VTIMEZONE
TZID:Europe/Berlin
BEGIN:DAYLIGHT
TZOFFSETFROM:+0100
TZOFFSETTO:+0200
TZNAME:CEST
DTSTART:20250330T010000
END:DAYLIGHT
BEGIN:STANDARD
TZOFFSETFROM:+0200
TZOFFSETTO:+0100
TZNAME:CET
DTSTART:20251026T010000
END:STANDARD
END:VTIMEZONE
BEGIN:VEVENT
DTSTART;TZID=Europe/Berlin:20251115T170000
DTEND;TZID=Europe/Berlin:20251115T200000
DTSTAMP:20260421T022220
CREATED:20250926T130714Z
LAST-MODIFIED:20251026T152818Z
UID:2614-1763226000-1763236800@unterinntaler-musikbund.at
SUMMARY:STMK Kufstein beim ORF Blasmusikpreis FINALE
DESCRIPTION:Der Blasmusikpreis 2025 geht ins Finale! \nIm Jubiläumsjahr 2025 lud der ORF Tirol gemeinsam mit dem Tiroler Blasmusikverband alle interessierten Kapellen zum ORF Tirol Blasmusikpreis ein. Bei den vier Regionalveranstaltungen konnten sich die Musikkapelle Ischgl\, die Musikkapelle Assling\, die Speckbacher Musikkapelle Gnadenwald und die Stadtmusikkapelle Kufstein durchsetzen. Diese kämpfen am 15. November ab 17.00 Uhr im Congress (Saal Tirol) in Innsbruck um den Hauptpreis. \nAuftrittszeiten der Kapellen: \n    17.00 Uhr         Musikkapelle Ischgl\n    17.50 Uhr         Stadtmusikkapelle Kufstein\n    18.40 Uhr         Speckbacher Musikkapelle Gnadenwald\n    19.30 Uhr         Musikkapelle Assling
URL:https://unterinntaler-musikbund.at/event/orf-blasmusikpreis/
LOCATION:Congress Innsbruck Saal Tirol
ATTACH;FMTTYPE=image/jpeg:https://unterinntaler-musikbund.at/wp-content/uploads/2025/09/2782023_bigpicture_1072948_siegerfoto.jpg
END:VEVENT
END:VCALENDAR