BEGIN:VCALENDAR
VERSION:2.0
PRODID:-//unterinntaler-musikbund.at - ECPv6.11.2//NONSGML v1.0//EN
CALSCALE:GREGORIAN
METHOD:PUBLISH
X-WR-CALNAME:unterinntaler-musikbund.at
X-ORIGINAL-URL:https://unterinntaler-musikbund.at
X-WR-CALDESC:Veranstaltungen für unterinntaler-musikbund.at
REFRESH-INTERVAL;VALUE=DURATION:PT1H
X-Robots-Tag:noindex
X-PUBLISHED-TTL:PT1H
BEGIN:VTIMEZONE
TZID:Europe/Berlin
BEGIN:DAYLIGHT
TZOFFSETFROM:+0100
TZOFFSETTO:+0200
TZNAME:CEST
DTSTART:20250330T010000
END:DAYLIGHT
BEGIN:STANDARD
TZOFFSETFROM:+0200
TZOFFSETTO:+0100
TZNAME:CET
DTSTART:20251026T010000
END:STANDARD
END:VTIMEZONE
BEGIN:VEVENT
DTSTART;TZID=Europe/Berlin:20250831T100000
DTEND;TZID=Europe/Berlin:20250831T170000
DTSTAMP:20260420T153910
CREATED:20250805T144611Z
LAST-MODIFIED:20250822T092741Z
UID:2552-1756634400-1756659600@unterinntaler-musikbund.at
SUMMARY:Weisenbläsertreffen
DESCRIPTION:Liebe Weisenbläser\, \ndas Weisenblasen ist eine stimmungsvolle Tradition\, die auch gepflegt werden darf. Daher findet am Sonntag\, den 31. August 2025 ein Weisenbläsertreffen auf der Kleinen Salve in Itter statt. Veranstaltet wird das Treffen vom Tourismusverband Region Hohe Salve gemeinsam mit dem Brixentaler- und dem Unterinntaler Musikbund Kufstein. \nBeginn ist um 10:00 Uhr mit einer feierlichen Bergmesse am Kleinen Salvensee.\nNach der Messe findet auf der KRAFTalm sowie beim Gasthof Rigi ein Frühschoppen mit Tanzlmusig statt\, wobei dazwischen immer wieder Weisen gespielt werden.
URL:https://unterinntaler-musikbund.at/event/weisenblaesertreffen/
ATTACH;FMTTYPE=image/jpeg:https://unterinntaler-musikbund.at/wp-content/uploads/2025/08/Plakat-Weisenblaesertreffen-neu.jpg
END:VEVENT
END:VCALENDAR