BEGIN:VCALENDAR
VERSION:2.0
PRODID:-//unterinntaler-musikbund.at - ECPv6.11.2//NONSGML v1.0//EN
CALSCALE:GREGORIAN
METHOD:PUBLISH
X-WR-CALNAME:unterinntaler-musikbund.at
X-ORIGINAL-URL:https://unterinntaler-musikbund.at
X-WR-CALDESC:Veranstaltungen für unterinntaler-musikbund.at
REFRESH-INTERVAL;VALUE=DURATION:PT1H
X-Robots-Tag:noindex
X-PUBLISHED-TTL:PT1H
BEGIN:VTIMEZONE
TZID:Europe/Berlin
BEGIN:DAYLIGHT
TZOFFSETFROM:+0100
TZOFFSETTO:+0200
TZNAME:CEST
DTSTART:20260329T010000
END:DAYLIGHT
BEGIN:STANDARD
TZOFFSETFROM:+0200
TZOFFSETTO:+0100
TZNAME:CET
DTSTART:20261025T010000
END:STANDARD
END:VTIMEZONE
BEGIN:VEVENT
DTSTART;TZID=Europe/Berlin:20260105T200000
DTEND;TZID=Europe/Berlin:20260105T220000
DTSTAMP:20260420T055144
CREATED:20251020T105152Z
LAST-MODIFIED:20251020T105152Z
UID:2637-1767643200-1767650400@unterinntaler-musikbund.at
SUMMARY:Winterkonzert
DESCRIPTION:Jahreskonzert der Bundesmusikkapelle Walchsee
URL:https://unterinntaler-musikbund.at/event/winterkonzert-3/
LOCATION:Mehrzwecksaal Walchsee\, Alleestraße 24\, Walchsee\, Tirol\, Österreich
ATTACH;FMTTYPE=image/jpeg:https://unterinntaler-musikbund.at/wp-content/uploads/2025/10/Plakat-02-scaled.jpg
END:VEVENT
END:VCALENDAR